BEGIN:VCALENDAR
VERSION:2.0
PRODID:-//Ophthalmology &amp; Visual Sciences//NONSGML Events//EN
CALSCALE:GREGORIAN
X-ORIGINAL-URL:https://ophthalmology.wustl.edu/calendar/
X-WR-CALDESC:Ophthalmology &amp; Visual Sciences - Events
BEGIN:VEVENT
UID:20211205T1536Z-1638718560.8368-EO-6736-1@172.23.128.18
STATUS:CONFIRMED
DTSTAMP:20260425T211927Z
CREATED:20200421T165326Z
LAST-MODIFIED:20200421T165326Z
DTSTART;TZID=America/Chicago:20191205T120000
DTEND;TZID=America/Chicago:20191205T130000
SUMMARY: Vision Science Seminar
DESCRIPTION: Vision Science Seminar Presented By Philip Williams PhD Assist
 ant Professor Ophthalmology & Visual Sciences Washington University School 
 of Medicine “A Role for Circuit Activity in Neuronal Survival and Regenerat
 ion”
X-ALT-DESC;FMTTYPE=text/html: <h3 style="text-align: center\;"><strong>Visi
 on Science Seminar</strong></h3><p style="text-align: center\;"><strong>Pre
 sented By</strong></p><p style="text-align: center\;"><strong><a href="http
 s://ophthalmology.wustl.edu/people/philip-williams-phd/">Philip Williams Ph
 D</a></strong></p><p style="text-align: center\;"><strong>Assistant Profess
 or</strong></p><p style="text-align: center\;"><strong>Ophthalmology & Visu
 al Sciences</strong></p><p style="text-align: center\;"><strong>Washington 
 University School of Medicine</strong></p><p style="text-align: center\;"><
 strong>"A Role for Circuit Activity in Neuronal Survival and Regeneration"<
 /strong></p>
CATEGORIES:All,Vision Science Seminar
LOCATION:Maternity Building 7th floor Conference room 725
GEO:38.636054;-90.263014
ORGANIZER;CN="Zach":MAILTO:zflauaus@wustl.edu
URL;VALUE=URI:https://ophthalmology.wustl.edu/calendar/event/vision-science
 -seminar-8/
END:VEVENT
BEGIN:VTIMEZONE
TZID:America/Chicago
BEGIN:STANDARD
TZOFFSETFROM:-0500
TZOFFSETTO:-0600
DTSTART:20191103T070000
TZNAME:CST
END:STANDARD
END:VTIMEZONE
END:VCALENDAR
