BEGIN:VCALENDAR
VERSION:2.0
PRODID:-//Ophthalmology &amp; Visual Sciences//NONSGML Events//EN
CALSCALE:GREGORIAN
X-ORIGINAL-URL:https://ophthalmology.wustl.edu/calendar/
X-WR-CALDESC:Ophthalmology &amp; Visual Sciences - Events
BEGIN:VEVENT
UID:20231208T0039Z-1701995946.8555-EO-22984-1@172.23.128.18
STATUS:CONFIRMED
DTSTAMP:20260422T223409Z
CREATED:20231206T153959Z
LAST-MODIFIED:20240104T151118Z
DTSTART;TZID=America/Chicago:20240111T100000
DTEND;TZID=America/Chicago:20240111T110000
SUMMARY: Vision Science Seminar
DESCRIPTION: Vision Science Seminar Photoreceptor Energy Balance and the De
 velopment of Diabetic Retinal Disease Rithwick Rajagopal\, MD\, PhD Associa
 te Professor Ophthalmology and Visual Sciences WUSTL
X-ALT-DESC;FMTTYPE=text/html: <h2 style="text-align: center\;">Vision Scien
 ce Seminar</h2><blockquote><p>Photoreceptor Energy Balance and the Developm
 ent of Diabetic Retinal Disease</p></blockquote><h4 class="washu-ppi-name e
 ntry-title" style="text-align: center\;"><a href="https://profiles.wustl.ed
 u/en/persons/rithwick-rajagopal/publications/">Rithwick Rajagopal\, MD\, Ph
 D</a></h4><h4 class="washu-ppi-description" style="text-align: center\;">As
 sociate Professor</h4><h4 class="washu-ppi-description" style="text-align: 
 center\;">Ophthalmology and Visual Sciences</h4><h4 style="text-align: cent
 er\;">WUSTL</h4>
CATEGORIES:Vision Science Seminar
LOCATION:Bernard Becker Medical Library\, Becker Classroom 405
GEO:38.634579;-90.263109
ORGANIZER;CN="Marion":MAILTO:mariont@wustl.edu
URL;VALUE=URI:https://ophthalmology.wustl.edu/calendar/event/vision-science
 -seminar-80/
END:VEVENT
BEGIN:VTIMEZONE
TZID:America/Chicago
BEGIN:STANDARD
TZOFFSETFROM:-0500
TZOFFSETTO:-0600
DTSTART:20231105T070000
TZNAME:CST
END:STANDARD
END:VTIMEZONE
END:VCALENDAR
