BEGIN:VCALENDAR
VERSION:2.0
PRODID:-//Ophthalmology &amp; Visual Sciences//NONSGML Events//EN
CALSCALE:GREGORIAN
X-ORIGINAL-URL:https://ophthalmology.wustl.edu/calendar/
X-WR-CALDESC:Ophthalmology &amp; Visual Sciences - Events
BEGIN:VEVENT
UID:20231208T0926Z-1702027618.1464-EO-22986-1@172.23.128.18
STATUS:CONFIRMED
DTSTAMP:20260424T091425Z
CREATED:20231206T160224Z
LAST-MODIFIED:20240110T150604Z
DTSTART;TZID=America/Chicago:20240118T100000
DTEND;TZID=America/Chicago:20240118T110000
SUMMARY: Vision Science Seminar
DESCRIPTION: Vision Science Seminar Homeostasis and Parallel Processing in 
 the Retina Daniel Kerschensteiner\, MD Bernard Becker Professor of Ophthalm
 ology and Visual Sciences\, Vice Chair for Research in Ophthalmology and Vi
 sual Sciences\, Co-Director of the Neuroscience Ph.D. Program WUSTL
X-ALT-DESC;FMTTYPE=text/html: <h2 style="text-align: center\;">Vision Scien
 ce Seminar</h2><blockquote><p>Homeostasis and Parallel Processing in the Re
 tina</p></blockquote><h4 style="text-align: center\;"><a href="https://opht
 halmology.wustl.edu/people/daniel-kerschensteiner-md/">Daniel Kerschenstein
 er\, MD</a></h4><h5 style="text-align: center\;">Bernard Becker Professor o
 f Ophthalmology and Visual Sciences\, Vice Chair for Research in Ophthalmol
 ogy and Visual Sciences\, Co-Director of the Neuroscience Ph.D. Program</h5
 ><h5 style="text-align: center\;">WUSTL</h5>
CATEGORIES:Vision Science Seminar
LOCATION:Bernard Becker Medical Library\, Becker Classroom 405
GEO:38.634579;-90.263109
ORGANIZER;CN="Marion":MAILTO:mariont@wustl.edu
URL;VALUE=URI:https://ophthalmology.wustl.edu/calendar/event/vision-science
 -seminar-81/
END:VEVENT
BEGIN:VTIMEZONE
TZID:America/Chicago
BEGIN:STANDARD
TZOFFSETFROM:-0500
TZOFFSETTO:-0600
DTSTART:20231105T070000
TZNAME:CST
END:STANDARD
END:VTIMEZONE
END:VCALENDAR
