BEGIN:VCALENDAR
VERSION:2.0
PRODID:-//Ophthalmology &amp; Visual Sciences//NONSGML Events//EN
CALSCALE:GREGORIAN
X-ORIGINAL-URL:https://ophthalmology.wustl.edu/calendar/
X-WR-CALDESC:Ophthalmology &amp; Visual Sciences - Events
BEGIN:VEVENT
UID:20231208T0926Z-1702027619.9287-EO-22990-1@172.23.128.18
STATUS:CONFIRMED
DTSTAMP:20260419T055057Z
CREATED:20231206T171533Z
LAST-MODIFIED:20240104T151606Z
DTSTART;TZID=America/Chicago:20240125T100000
DTEND;TZID=America/Chicago:20240125T110000
SUMMARY: Vision Science Seminar
DESCRIPTION: Vision Science Seminar “Understanding Racial Disparities of Gl
 aucoma: From the Community…to the Clinic / OR…to the Bench” Carla Siegfried
 \, MD Jacquelyn E. and Allan E. Kolker\, MD\, Distinguished Professor of Op
 hthalmology and Visual Sciences\; Vice Chair for Diversity\, Equity and Pro
 fessionalism WUSTL
X-ALT-DESC;FMTTYPE=text/html: <h2 style="text-align: center\;">Vision Scien
 ce Seminar</h2><blockquote><p>"Understanding Racial Disparities of Glaucoma
 : From the Community…to the Clinic / OR…to the Bench"</p></blockquote><h4 s
 tyle="text-align: center\;"><a href="https://profiles.wustl.edu/en/persons/
 carla-siegfried/publications/">Carla Siegfried\, MD</a></h4><h4 style="text
 -align: center\;">Jacquelyn E. and Allan E. Kolker\, MD\, Distinguished Pro
 fessor of Ophthalmology and Visual Sciences\; Vice Chair for Diversity\, Eq
 uity and Professionalism</h4><h4 style="text-align: center\;">WUSTL</h4>
CATEGORIES:Vision Science Seminar
LOCATION:Bernard Becker Medical Library\, Becker Classroom 405
GEO:38.634579;-90.263109
ORGANIZER;CN="Marion":MAILTO:mariont@wustl.edu
URL;VALUE=URI:https://ophthalmology.wustl.edu/calendar/event/vision-science
 -seminar-82/
END:VEVENT
BEGIN:VTIMEZONE
TZID:America/Chicago
BEGIN:STANDARD
TZOFFSETFROM:-0500
TZOFFSETTO:-0600
DTSTART:20231105T070000
TZNAME:CST
END:STANDARD
END:VTIMEZONE
END:VCALENDAR
