BEGIN:VCALENDAR
VERSION:2.0
PRODID:-//Ophthalmology &amp; Visual Sciences//NONSGML Events//EN
CALSCALE:GREGORIAN
X-ORIGINAL-URL:https://ophthalmology.wustl.edu/calendar/
X-WR-CALDESC:Ophthalmology &amp; Visual Sciences - Events
BEGIN:VEVENT
UID:20231208T0927Z-1702027620.7353-EO-22991-1@172.23.128.18
STATUS:CONFIRMED
DTSTAMP:20260419T055012Z
CREATED:20231206T172018Z
LAST-MODIFIED:20240104T152255Z
DTSTART;TZID=America/Chicago:20240201T100000
DTEND;TZID=America/Chicago:20240201T110000
SUMMARY: Vision Science Seminar
DESCRIPTION: Vision Science Seminar “Development and Functions of the Retin
 al Specializations in Zebrafish” Takeshi Yoshimatsu\, PhD Assistant Profess
 or Ophthalmology and Visual Sciences WUSTL
X-ALT-DESC;FMTTYPE=text/html: <h2 style="text-align: center\;">Vision Scien
 ce Seminar</h2><blockquote><p>"Development and Functions of the Retinal Spe
 cializations in Zebrafish"</p></blockquote><h4 style="text-align: center\;"
 ><a href="https://ophthalmology.wustl.edu/people/takeshi-yoshimatsu-phd/">T
 akeshi Yoshimatsu\, PhD</a></h4><h4 style="text-align: center\;">Assistant 
 Professor</h4><h4 style="text-align: center\;">Ophthalmology and Visual Sci
 ences</h4><h4 style="text-align: center\;">WUSTL</h4>
CATEGORIES:Vision Science Seminar
LOCATION:Bernard Becker Medical Library\, Becker Classroom 405
GEO:38.634579;-90.263109
ORGANIZER;CN="Marion":MAILTO:mariont@wustl.edu
URL;VALUE=URI:https://ophthalmology.wustl.edu/calendar/event/vision-science
 -seminar-83/
END:VEVENT
BEGIN:VTIMEZONE
TZID:America/Chicago
BEGIN:STANDARD
TZOFFSETFROM:-0500
TZOFFSETTO:-0600
DTSTART:20231105T070000
TZNAME:CST
END:STANDARD
END:VTIMEZONE
END:VCALENDAR
