BEGIN:VCALENDAR
VERSION:2.0
PRODID:-//Ophthalmology &amp; Visual Sciences//NONSGML Events//EN
CALSCALE:GREGORIAN
X-ORIGINAL-URL:https://ophthalmology.wustl.edu/calendar/
X-WR-CALDESC:Ophthalmology &amp; Visual Sciences - Events
BEGIN:VEVENT
UID:20231208T0927Z-1702027621.0895-EO-22992-1@172.23.128.18
STATUS:CONFIRMED
DTSTAMP:20260423T100508Z
CREATED:20231206T172415Z
LAST-MODIFIED:20240104T152607Z
DTSTART;TZID=America/Chicago:20240208T100000
DTEND;TZID=America/Chicago:20240208T110000
SUMMARY: Vision Science Seminar
DESCRIPTION: Vision Science Seminar “How to build tissues with reproducible
  patterns and shapes? – Insights from the zebrafish spinal cord” Tony Tsai\
 , MD\, PhD Assistant Professor of Developmental Biology WUSTL
X-ALT-DESC;FMTTYPE=text/html: <h2 style="text-align: center\;">Vision Scien
 ce Seminar</h2><blockquote><p>"How to build tissues with reproducible patte
 rns and shapes? – Insights from the zebrafish spinal cord"</p></blockquote>
 <h4 style="text-align: center\;"><a href="https://developmentalbiology.wust
 l.edu/people/tony-y-c-tsai-md-phd/">Tony Tsai\, MD\, PhD</a><br />Assistant
  Professor of Developmental Biology</h4><h4 style="text-align: center\;">WU
 STL</h4>
CATEGORIES:Vision Science Seminar
LOCATION:Bernard Becker Medical Library\, Becker Classroom 405
GEO:38.634579;-90.263109
ORGANIZER;CN="Marion":MAILTO:mariont@wustl.edu
URL;VALUE=URI:https://ophthalmology.wustl.edu/calendar/event/vision-science
 -seminar-84/
END:VEVENT
BEGIN:VTIMEZONE
TZID:America/Chicago
BEGIN:STANDARD
TZOFFSETFROM:-0500
TZOFFSETTO:-0600
DTSTART:20231105T070000
TZNAME:CST
END:STANDARD
END:VTIMEZONE
END:VCALENDAR
