BEGIN:VCALENDAR
VERSION:2.0
PRODID:-//Ophthalmology &amp; Visual Sciences//NONSGML Events//EN
CALSCALE:GREGORIAN
X-ORIGINAL-URL:https://ophthalmology.wustl.edu/calendar/
X-WR-CALDESC:Ophthalmology &amp; Visual Sciences - Events
BEGIN:VEVENT
UID:20231208T0927Z-1702027621.8876-EO-22993-1@172.23.128.18
STATUS:CONFIRMED
DTSTAMP:20260419T055056Z
CREATED:20231206T174027Z
LAST-MODIFIED:20240212T221456Z
DTSTART;TZID=America/Chicago:20240215T100000
DTEND;TZID=America/Chicago:20240215T110000
SUMMARY: Vision Science Seminar
DESCRIPTION: Vision Science Seminar “What controls lens size?“ Steven Bassn
 ett\, PhD Grace Nelson Lacy Distinguished Professor of Ophthalmology and Vi
 sual Science WUSTL     Join Zoom meeting:  https://wustl-hipaa.zoom.us/j/93
 717123554?pwd=ZW1xbG1IcG9HMXVJTXh0Y1NGMXhVZz09  Meeting ID: 937 1712 3554 P
 asscode: 394047
X-ALT-DESC;FMTTYPE=text/html: <h2 style="text-align: center\;">Vision Scien
 ce Seminar</h2><blockquote><p><i>"</i>What controls lens size?<i>"</i></p><
 /blockquote><h4 style="text-align: center\;"><a href="https://ophthalmology
 .wustl.edu/people/steven-bassnett-phd/">Steven Bassnett\, PhD</a><br />Grac
 e Nelson Lacy Distinguished Professor of Ophthalmology and Visual Science</
 h4><h4 style="text-align: center\;">WUSTL</h4><p> </p><p> </p><table class=
 "x_paragraph_block x_block-2" role="presentation" border="0" width="100%" c
 ellspacing="0" cellpadding="10"><tbody><tr><td class="x_pad"><div><p><stron
 g>Join Zoom meeting: </strong></p><p><strong><a href="https://t.e2ma.net/cl
 ick/j0dwz0/n7t4fpxk/fx08wvg" target="_blank" rel="noopener noreferrer" data
 -auth="NotApplicable" data-linkindex="5">https://wustl-hipaa.zoom.us/j/9371
 7123554?pwd=ZW1xbG1IcG9HMXVJTXh0Y1NGMXhVZz09</a> </strong></p><p><strong>Me
 eting ID: 937 1712 3554</strong></p><p><strong>Passcode: 394047</strong></p
 ></div></td></tr></tbody></table>
CATEGORIES:Vision Science Seminar
LOCATION:Bernard Becker Medical Library\, Becker Classroom 405
GEO:38.634579;-90.263109
ORGANIZER;CN="Marion":MAILTO:mariont@wustl.edu
URL;VALUE=URI:https://ophthalmology.wustl.edu/calendar/event/vision-science
 -seminar-85/
END:VEVENT
BEGIN:VTIMEZONE
TZID:America/Chicago
BEGIN:STANDARD
TZOFFSETFROM:-0500
TZOFFSETTO:-0600
DTSTART:20231105T070000
TZNAME:CST
END:STANDARD
END:VTIMEZONE
END:VCALENDAR
