BEGIN:VCALENDAR
VERSION:2.0
PRODID:-//Ophthalmology &amp; Visual Sciences//NONSGML Events//EN
CALSCALE:GREGORIAN
X-ORIGINAL-URL:https://ophthalmology.wustl.edu/calendar/
X-WR-CALDESC:Ophthalmology &amp; Visual Sciences - Events
BEGIN:VEVENT
UID:20220903T1520Z-1662218428.9157-EO-18661-1@172.23.128.19
STATUS:CONFIRMED
DTSTAMP:20260425T192324Z
CREATED:20220822T020129Z
LAST-MODIFIED:20220916T193710Z
DTSTART;TZID=America/Chicago:20220922T100000
DTEND;TZID=America/Chicago:20220922T110000
SUMMARY: Vision Science Seminar-9/22
DESCRIPTION: Vision Science Seminar “Diabetes Regenerative Medicine Using S
 tem Cells” presented by Jeffrey Millman\, PhD Associate Professor of Medici
 ne and Biomedical Engineering Division of Endocrinology\, Metabolism & Lipi
 d Research Washington University School of Medicine *Please contact hughest
 raciem@wustl.edu for Zoom details
X-ALT-DESC;FMTTYPE=text/html: <p style="text-align: center\;"><strong>Visio
 n Science Seminar</strong></p><p style="text-align: center\;"><strong><em>"
 Diabetes Regenerative Medicine Using Stem Cells"</em></strong></p><p style=
 "text-align: center\;">presented by</p><p style="text-align: center\;"><a h
 ref="https://endocrinology.wustl.edu/people/jeffrey-r-millman-phd/">Jeffrey
  Millman\, PhD</a></p><p style="text-align: center\;">Associate Professor o
 f Medicine and Biomedical Engineering</p><p style="text-align: center\;">Di
 vision of Endocrinology\, Metabolism & Lipid Research</p><p style="text-ali
 gn: center\;">Washington University School of Medicine</p><p style="text-al
 ign: center\;">*<strong>Please contact <a href="mailto:hughestraciem@wustl.
 edu">hughestraciem@wustl.edu</a> for Zoom details</strong></p>
CATEGORIES:All,Vision Science Seminar
LOCATION:Maternity Building 7th floor Conference room 725
GEO:38.636054;-90.263014
ORGANIZER;CN="Katy":MAILTO:kpaglusch@wustl.edu
URL;VALUE=URI:https://ophthalmology.wustl.edu/calendar/event/vision-science
 -seminar-9-22-2/
END:VEVENT
BEGIN:VTIMEZONE
TZID:America/Chicago
BEGIN:DAYLIGHT
TZOFFSETFROM:-0600
TZOFFSETTO:-0500
DTSTART:20220313T080000
TZNAME:CDT
END:DAYLIGHT
END:VTIMEZONE
END:VCALENDAR
