BEGIN:VCALENDAR
VERSION:2.0
PRODID:-//Ophthalmology &amp; Visual Sciences//NONSGML Events//EN
CALSCALE:GREGORIAN
X-ORIGINAL-URL:https://ophthalmology.wustl.edu/calendar/
X-WR-CALDESC:Ophthalmology &amp; Visual Sciences - Events
BEGIN:VEVENT
UID:20210923T1937Z-1632425837.8826-EO-13990-1@172.23.128.19
STATUS:CONFIRMED
DTSTAMP:20260424T201026Z
CREATED:20210825T163534Z
LAST-MODIFIED:20210917T165152Z
DTSTART;TZID=America/Chicago:20210923T100000
DTEND;TZID=America/Chicago:20210923T110000
SUMMARY: Vision Science Seminar-9/23
DESCRIPTION: Vision Science Seminar “VGlut3 Amacrine Cells are Wired to Tra
 nsmit Different Signals to Different Types of Retinal Ganglion Cells” Prese
 nted by Joshua Morgan\, PhD Assistant Professor\, Ophthalmology and Visual 
 Sciences Washington University School of Medicine
X-ALT-DESC;FMTTYPE=text/html: <p style="text-align: center\;"><strong>Visio
 n Science Seminar</strong></p><p style="text-align: center\;"><em>"VGlut3 A
 macrine Cells are Wired to Transmit Different Signals to Different Types of
  Retinal Ganglion Cells"</em></p><p style="text-align: center\;">Presented 
 by</p><p style="text-align: center\;"><a href="https://ophthalmology.wustl.
 edu/people/joshua-morgan-phd/"><strong>Joshua Morgan\, PhD</strong></a></p>
 <p style="text-align: center\;">Assistant Professor\, Ophthalmology and Vis
 ual Sciences</p><p style="text-align: center\;">Washington University Schoo
 l of Medicine</p>
CATEGORIES:All,Vision Science Seminar
LOCATION:Maternity Building 7th floor Conference room 725
GEO:38.636054;-90.263014
ORGANIZER;CN="Katy":MAILTO:kpaglusch@wustl.edu
URL;VALUE=URI:https://ophthalmology.wustl.edu/calendar/event/vision-science
 -seminar-9-23/
END:VEVENT
BEGIN:VTIMEZONE
TZID:America/Chicago
BEGIN:DAYLIGHT
TZOFFSETFROM:-0600
TZOFFSETTO:-0500
DTSTART:20210314T080000
TZNAME:CDT
END:DAYLIGHT
END:VTIMEZONE
END:VCALENDAR
