BEGIN:VCALENDAR
VERSION:2.0
PRODID:-//Ophthalmology &amp; Visual Sciences//NONSGML Events//EN
CALSCALE:GREGORIAN
X-ORIGINAL-URL:https://ophthalmology.wustl.edu/calendar/
X-WR-CALDESC:Ophthalmology &amp; Visual Sciences - Events
BEGIN:VEVENT
UID:20220823T1433Z-1661265191.9099-EO-18874-1@172.23.128.19
STATUS:CONFIRMED
DTSTAMP:20260424T201021Z
CREATED:20220822T021342Z
LAST-MODIFIED:20220921T220432Z
DTSTART;TZID=America/Chicago:20220929T100000
DTEND;TZID=America/Chicago:20220929T110000
SUMMARY: Vision Science Seminar-9/29
DESCRIPTION: Vision Science Seminar “Modeling Human Placental Development U
 sing Naive Pluripotent Stem Cells” Presented by Thorold Theunissen\, PhD As
 sistant  Professor of Developmental Biology Dept. of Developmental Biology 
 Washington University School of Medicine *Please contact hughestraciem@wust
 l.edu for Zoom details
X-ALT-DESC;FMTTYPE=text/html: <p style="text-align: center\;"><strong>Visio
 n Science Seminar</strong></p><p style="text-align: center\;"><em><strong>"
 Modeling Human Placental Development Using Naive Pluripotent Stem Cells"</s
 trong></em></p><p style="text-align: center\;">Presented by</p><p style="te
 xt-align: center\;"><strong><a href="https://developmentalbiology.wustl.edu
 /people/thorold-theunissen/">Thorold Theunissen\, PhD</a></strong></p><p st
 yle="text-align: center\;">Assistant  Professor of Developmental Biology</p
 ><p style="text-align: center\;">Dept. of Developmental Biology</p><p style
 ="text-align: center\;">Washington University School of Medicine</p><p styl
 e="text-align: center\;">*<strong>Please contact <a href="mailto:hughestrac
 iem@wustl.edu">hughestraciem@wustl.edu</a> for Zoom details</strong></p>
CATEGORIES:All,Vision Science Seminar
LOCATION:Maternity Building 7th floor Conference room 725
GEO:38.636054;-90.263014
ORGANIZER;CN="Katy":MAILTO:kpaglusch@wustl.edu
URL;VALUE=URI:https://ophthalmology.wustl.edu/calendar/event/vision-science
 -seminar-9-29/
END:VEVENT
BEGIN:VTIMEZONE
TZID:America/Chicago
BEGIN:DAYLIGHT
TZOFFSETFROM:-0600
TZOFFSETTO:-0500
DTSTART:20220313T080000
TZNAME:CDT
END:DAYLIGHT
END:VTIMEZONE
END:VCALENDAR
