BEGIN:VCALENDAR
VERSION:2.0
PRODID:-//Ophthalmology &amp; Visual Sciences//NONSGML Events//EN
CALSCALE:GREGORIAN
X-ORIGINAL-URL:https://ophthalmology.wustl.edu/calendar/
X-WR-CALDESC:Ophthalmology &amp; Visual Sciences - Events
BEGIN:VEVENT
UID:20240118T1846Z-1705603589.871-EO-23151-1@172.23.128.18
STATUS:CONFIRMED
DTSTAMP:20260419T055012Z
CREATED:20240118T183450Z
LAST-MODIFIED:20240226T204849Z
DTSTART;TZID=America/Chicago:20240404T100000
DTEND;TZID=America/Chicago:20240404T110000
SUMMARY: Vision Science Seminar
DESCRIPTION:   CANCELLED!   Vision Science Seminar Talk Title TBA Michael M
 eers\, PhD Assistant Professor of Genetics WUSTL
X-ALT-DESC;FMTTYPE=text/html: <p> </p><h2 style="text-align: center\;"><str
 ong>CANCELLED!</strong></h2><p> </p><h2 style="text-align: center\;">Vision
  Science Seminar</h2><blockquote><p>Talk Title TBA</p></blockquote><h4 styl
 e="text-align: center\;"><a href="https://genetics.wustl.edu/people/michael
 -meers-phd/">Michael Meers\, PhD</a></h4><h4 class="washu-ppi-description" 
 style="text-align: center\;">Assistant Professor of Genetics</h4><h4 style=
 "text-align: center\;">WUSTL</h4>
CATEGORIES:Vision Science Seminar
LOCATION:Bernard Becker Medical Library\, Becker Classroom 405
GEO:38.634579;-90.263109
ORGANIZER;CN="Marion":MAILTO:mariont@wustl.edu
URL;VALUE=URI:https://ophthalmology.wustl.edu/calendar/event/vision-science
 -seminar-92/
END:VEVENT
BEGIN:VTIMEZONE
TZID:America/Chicago
BEGIN:DAYLIGHT
TZOFFSETFROM:-0600
TZOFFSETTO:-0500
DTSTART:20240310T080000
TZNAME:CDT
END:DAYLIGHT
END:VTIMEZONE
END:VCALENDAR
