BEGIN:VCALENDAR
VERSION:2.0
PRODID:-//Ophthalmology &amp; Visual Sciences//NONSGML Events//EN
CALSCALE:GREGORIAN
X-ORIGINAL-URL:https://ophthalmology.wustl.edu/calendar/
X-WR-CALDESC:Ophthalmology &amp; Visual Sciences - Events
BEGIN:VEVENT
UID:20211010T0335Z-1633836944.0335-EO-6686-1@172.23.128.19
STATUS:CONFIRMED
DTSTAMP:20260424T200916Z
CREATED:20200421T165324Z
LAST-MODIFIED:20200421T165324Z
DTSTART;TZID=America/Chicago:20200409T120000
DTEND;TZID=America/Chicago:20200409T130000
SUMMARY: Vision Science Seminar – CANCELED
DESCRIPTION: Vision Science Seminar -CANCELED Presented By Michael Anderson
 \, PhD Professor\, Molecular Physiology and Biophysics\, Ophthalmology and 
 Visual Sciences University of Iowa “Phenotype-driven Analyses Empowering Mo
 use Studies of Glaucoma and RGC Biology”
X-ALT-DESC;FMTTYPE=text/html: <h3 style="text-align: center\;"><strong>Visi
 on Science Seminar -CANCELED</strong></h3><p style="text-align: center\;"><
 strong>Presented By</strong></p><p style="text-align: center\;"><a href="ht
 tps://ivr.uiowa.edu/faculty/anderson"><strong>Michael Anderson\, PhD</stron
 g></a></p><p style="text-align: center\;"><strong>Professor\, Molecular Phy
 siology and Biophysics\, Ophthalmology and Visual Sciences</strong></p><p s
 tyle="text-align: center\;"><strong>University of Iowa</strong></p><p style
 ="text-align: center\;"><strong><em>"Phenotype-driven Analyses Empowering M
 ouse Studies of Glaucoma and RGC Biology"</em></strong></p>
CATEGORIES:Vision Science Seminar,Visiting Professor
LOCATION:Maternity Building 7th floor Conference room 725
GEO:38.636054;-90.263014
ORGANIZER;CN="Zach":MAILTO:zflauaus@wustl.edu
URL;VALUE=URI:https://ophthalmology.wustl.edu/calendar/event/vision-science
 -seminar-canceled-2/
END:VEVENT
BEGIN:VTIMEZONE
TZID:America/Chicago
BEGIN:DAYLIGHT
TZOFFSETFROM:-0600
TZOFFSETTO:-0500
DTSTART:20200308T080000
TZNAME:CDT
END:DAYLIGHT
END:VTIMEZONE
END:VCALENDAR
