BEGIN:VCALENDAR
VERSION:2.0
PRODID:-//Ophthalmology &amp; Visual Sciences//NONSGML Events//EN
CALSCALE:GREGORIAN
X-ORIGINAL-URL:https://ophthalmology.wustl.edu/calendar/
X-WR-CALDESC:Ophthalmology &amp; Visual Sciences - Events
BEGIN:VEVENT
UID:20211010T0336Z-1633836972.8855-EO-6687-1@172.23.128.19
STATUS:CONFIRMED
DTSTAMP:20260425T154357Z
CREATED:20200421T165324Z
LAST-MODIFIED:20200421T165324Z
DTSTART;TZID=America/Chicago:20200326T120000
DTEND;TZID=America/Chicago:20200326T130000
SUMMARY: Vision Science Seminar – CANCELED
DESCRIPTION: Vision Science Seminar – CANCELED Presented By Peter Lukasiewi
 cz\, PhD Ophthalmology & Visual Sciences Washington University School of Me
 dicine âSignaling in the Healthy and Diabetic Retinaâ
X-ALT-DESC;FMTTYPE=text/html: <h3 style="text-align: center\;"><strong>Visi
 on Science Seminar - CANCELED</strong></h3><p style="text-align: center\;">
 <strong>Presented By</strong></p><p style="text-align: center\;"><strong><a
  href="https://ophthalmology.wustl.edu/people/peter-lukasiewicz-phd/">Peter
  Lukasiewicz\, PhD</a></strong></p><p style="text-align: center\;"><strong>
 Ophthalmology & Visual Sciences</strong></p><p style="text-align: center\;"
 ><strong>Washington University School of Medicine</strong></p><p style="tex
 t-align: center\;"><strong>â<i>Signaling in the Healthy and Diabetic Reti
 na</i>â</strong></p>
CATEGORIES:Vision Science Seminar
LOCATION:Maternity Building 7th floor Conference room 725
GEO:38.636054;-90.263014
ORGANIZER;CN="Zach":MAILTO:zflauaus@wustl.edu
URL;VALUE=URI:https://ophthalmology.wustl.edu/calendar/event/vision-science
 -seminar-canceled-3/
END:VEVENT
BEGIN:VTIMEZONE
TZID:America/Chicago
BEGIN:DAYLIGHT
TZOFFSETFROM:-0600
TZOFFSETTO:-0500
DTSTART:20200308T080000
TZNAME:CDT
END:DAYLIGHT
END:VTIMEZONE
END:VCALENDAR
