BEGIN:VCALENDAR
VERSION:2.0
PRODID:-//Ophthalmology &amp; Visual Sciences//NONSGML Events//EN
CALSCALE:GREGORIAN
X-ORIGINAL-URL:https://ophthalmology.wustl.edu/calendar/
X-WR-CALDESC:Ophthalmology &amp; Visual Sciences - Events
BEGIN:VEVENT
UID:20211010T0347Z-1633837625.6708-EO-6716-1@172.23.128.19
STATUS:CONFIRMED
DTSTAMP:20260425T194059Z
CREATED:20200421T165325Z
LAST-MODIFIED:20200421T165325Z
DTSTART;TZID=America/Chicago:20200108T070000
DTEND;TZID=America/Chicago:20200108T080000
SUMMARY: Grand Rounds
DESCRIPTION: Ophthalmology and Visual Sciences Grand Rounds Presented by An
 thony Lubniewski\, MD Professor\, Ophthalmology and Visual Sciences “Cornea
  Transplant and Eye Banking in St. Louis – The Tender Years” and Hayley Jam
 es\, MD Second Year Resident\, DOVS “Scleritis: A Boring Pain\, but Not a B
 oring Topic”
X-ALT-DESC;FMTTYPE=text/html: <h4 style="text-align: center\;">Ophthalmolog
 y and Visual Sciences Grand Rounds</h4><p style="text-align: center\;"><spa
 n>Presented by</span></p><p style="text-align: center\;"><a href="https://o
 phthalmology.wustl.edu/people/anthony-lubniewski-md/"><span>Anthony Lubniew
 ski</span><span style="font-size: 1.125rem\;">\, MD</span></a></p><p style=
 "text-align: center\;"><span style="font-size: 1.125rem\;">Professor\, Opht
 halmology and Visual Sciences</span></p><p style="text-align: center\;">"Co
 rnea Transplant and Eye Banking in St. Louis - The Tender Years"</p><p styl
 e="text-align: center\;"><span> and </span></p><p style="text-align: center
 \;"><a href="https://ophthalmology.wustl.edu/people/hayley-james-md/"><span
 >Hayley James\, MD</span></a></p><p style="text-align: center\;"><span>Seco
 nd Year Resident\, DOVS</span></p><p style="text-align: center\;">"Scleriti
 s: A Boring Pain\, but Not a Boring Topic"</p>
CATEGORIES:All,Grand Rounds
LOCATION:Zoom Platform (link in event details)
GEO:0.000000;0.000000
ORGANIZER;CN="Zach":MAILTO:zflauaus@wustl.edu
URL;VALUE=URI:https://ophthalmology.wustl.edu/calendar/event/grand-rounds-2
 0/
END:VEVENT
BEGIN:VTIMEZONE
TZID:America/Chicago
BEGIN:STANDARD
TZOFFSETFROM:-0500
TZOFFSETTO:-0600
DTSTART:20191103T070000
TZNAME:CST
END:STANDARD
END:VTIMEZONE
END:VCALENDAR
