BEGIN:VCALENDAR
VERSION:2.0
PRODID:-//Ophthalmology &amp; Visual Sciences//NONSGML Events//EN
CALSCALE:GREGORIAN
X-ORIGINAL-URL:https://ophthalmology.wustl.edu/calendar/
X-WR-CALDESC:Ophthalmology &amp; Visual Sciences - Events
BEGIN:VEVENT
UID:20211010T0357Z-1633838269.7848-EO-6726-1@172.23.128.19
STATUS:CONFIRMED
DTSTAMP:20260424T200915Z
CREATED:20200421T165325Z
LAST-MODIFIED:20200421T165325Z
DTSTART;TZID=America/Chicago:20191002T070000
DTEND;TZID=America/Chicago:20191002T080000
SUMMARY: Grand Rounds
DESCRIPTION: Ophthalmology and Visual Sciences Grand Rounds Presented by St
 even Couch\, MD Associate Professor\, Ophthalmology and Visual Sciences Top
 ic: “Thyroid Eye Disease: General Update.” and Jennifer Enright\, MD\, PhD 
 Second Year Resident DOVS Topic: “Thyroid Eye Disease: Case Presentation.”
X-ALT-DESC;FMTTYPE=text/html: <div class="calendar-plus-single-location" st
 yle="text-align: center\;"></div><div class="calendar-plus-single-event-des
 cription"><h4 style="text-align: center\;">Ophthalmology and Visual Science
 s Grand Rounds</h4><p style="text-align: center\;">Presented by</p><p style
 ="text-align: center\;"><a href="https://ophthalmology.wustl.edu/people/ste
 ven-couch-md/">Steven Couch\, MD </a></p><p style="text-align: center\;">As
 sociate Professor\, Ophthalmology and Visual Sciences</p><p style="text-ali
 gn: center\;"><em>Topic: "Thyroid Eye Disease: General Update."</em></p><p 
 style="text-align: center\;">and</p><p style="text-align: center\;"><a href
 ="https://ophthalmology.wustl.edu/people/jennifer-enright-md-phd/">Jennifer
  Enright\, MD\, PhD </a></p><p style="text-align: center\;">Second Year Res
 ident DOVS</p><p style="text-align: center\;"><em>Topic: "Thyroid Eye Disea
 se: Case Presentation."</em></p></div>
CATEGORIES:All,Grand Rounds
LOCATION:Zoom Platform (link in event details)
GEO:0.000000;0.000000
ORGANIZER;CN="Zach":MAILTO:zflauaus@wustl.edu
URL;VALUE=URI:https://ophthalmology.wustl.edu/calendar/event/grand-rounds-3
 0/
END:VEVENT
BEGIN:VTIMEZONE
TZID:America/Chicago
BEGIN:DAYLIGHT
TZOFFSETFROM:-0600
TZOFFSETTO:-0500
DTSTART:20190310T080000
TZNAME:CDT
END:DAYLIGHT
END:VTIMEZONE
END:VCALENDAR
