BEGIN:VCALENDAR
VERSION:2.0
PRODID:-//Ophthalmology &amp; Visual Sciences//NONSGML Events//EN
CALSCALE:GREGORIAN
X-ORIGINAL-URL:https://ophthalmology.wustl.edu/calendar/
X-WR-CALDESC:Ophthalmology &amp; Visual Sciences - Events
BEGIN:VEVENT
UID:20230822T2252Z-1692744724.5745-EO-22166-1@172.23.128.18
STATUS:CONFIRMED
DTSTAMP:20260419T055058Z
CREATED:20230821T184925Z
LAST-MODIFIED:20230908T165002Z
DTSTART;TZID=America/Chicago:20230914T100000
DTEND;TZID=America/Chicago:20230914T110000
SUMMARY: Vision Science Seminar
DESCRIPTION: Vision Science Seminar “Watching neuronal degeneration to unde
 rstand retinal ganglion cell survival” Philip Williams\, PhD Assistant Prof
 essor\, Department of Ophthalmology and Visual Sciences\, WUSM
X-ALT-DESC;FMTTYPE=text/html: <h2 style="text-align: center\;"><strong>Visi
 on Science Seminar</strong></h2><blockquote><p style="text-align: center\;"
 ><em><strong>"Watching neuronal degeneration to understand retinal ganglion
  cell survival"</strong></em></p></blockquote><h4 style="text-align: center
 \;"><a href="https://ophthalmology.wustl.edu/people/philip-williams-phd/">P
 hilip Williams\, PhD</a></h4><h5 style="text-align: center\;">Assistant Pro
 fessor\, Department of Ophthalmology and Visual Sciences\, WUSM</h5>
CATEGORIES:Vision Science Seminar
LOCATION:Bernard Becker Medical Library\, Becker Classroom 405
GEO:38.634579;-90.263109
ORGANIZER;CN="Macey":MAILTO:macey.alexander@wustl.edu
URL;VALUE=URI:https://ophthalmology.wustl.edu/calendar/event/vision-science
 -seminar-72/
ATTACH;FMTTYPE=image/png:https://ophthalmology.wustl.edu/app/uploads/2023/08/VSS-2.png
END:VEVENT
BEGIN:VTIMEZONE
TZID:America/Chicago
BEGIN:DAYLIGHT
TZOFFSETFROM:-0600
TZOFFSETTO:-0500
DTSTART:20230312T080000
TZNAME:CDT
END:DAYLIGHT
END:VTIMEZONE
END:VCALENDAR
