BEGIN:VCALENDAR
VERSION:2.0
PRODID:-//Ophthalmology &amp; Visual Sciences//NONSGML Events//EN
CALSCALE:GREGORIAN
X-ORIGINAL-URL:https://ophthalmology.wustl.edu/calendar/
X-WR-CALDESC:Ophthalmology &amp; Visual Sciences - Events
BEGIN:VEVENT
UID:20210928T0441Z-1632804111.7193-EO-13999-1@172.23.128.18
STATUS:CONFIRMED
DTSTAMP:20260419T055008Z
CREATED:20211015T155733Z
LAST-MODIFIED:20211015T155727Z
DTSTART;TZID=America/Chicago:20211021T100000
DTEND;TZID=America/Chicago:20211021T110000
SUMMARY: Vision Sciences Seminar- 10/21
DESCRIPTION: Vision Science Seminar “Identifying Native Survival Characteri
 stics of Retinal Ganglion Cells” Presented by Philip Williams\, PhD Assista
 nt Professor\, Ophthalmology and Visual Sciences Washington University Scho
 ol of Medicine
X-ALT-DESC;FMTTYPE=text/html: <p style="text-align: center\;"><strong>Visio
 n Science Seminar</strong></p><p style="text-align: center\;"><em>"Identify
 ing Native Survival Characteristics of Retinal Ganglion Cells"</em></p><p s
 tyle="text-align: center\;">Presented by</p><p style="text-align: center\;"
 ><a href="https://ophthalmology.wustl.edu/people/philip-williams-phd/"><str
 ong>Philip Williams\, PhD</strong></a></p><p style="text-align: center\;">A
 ssistant Professor\, Ophthalmology and Visual Sciences</p><p style="text-al
 ign: center\;">Washington University School of Medicine</p>
CATEGORIES:All,Vision Science Seminar
LOCATION:Maternity Building 7th floor Conference room 725
GEO:38.636054;-90.263014
ORGANIZER;CN="Katy":MAILTO:kpaglusch@wustl.edu
URL;VALUE=URI:https://ophthalmology.wustl.edu/calendar/event/vision-science
 s-seminar-10-21/
END:VEVENT
BEGIN:VTIMEZONE
TZID:America/Chicago
BEGIN:DAYLIGHT
TZOFFSETFROM:-0600
TZOFFSETTO:-0500
DTSTART:20210314T080000
TZNAME:CDT
END:DAYLIGHT
END:VTIMEZONE
END:VCALENDAR
